BEGIN:VCALENDAR
VERSION:2.0
PRODID:-//Solarbird - ECPv6.15.18//NONSGML v1.0//EN
CALSCALE:GREGORIAN
METHOD:PUBLISH
X-ORIGINAL-URL:https://www.solarbirdband.co.uk
X-WR-CALDESC:Events for Solarbird
REFRESH-INTERVAL;VALUE=DURATION:PT1H
X-Robots-Tag:noindex
X-PUBLISHED-TTL:PT1H
BEGIN:VTIMEZONE
TZID:UTC
BEGIN:STANDARD
TZOFFSETFROM:+0000
TZOFFSETTO:+0000
TZNAME:UTC
DTSTART:20240101T000000
END:STANDARD
END:VTIMEZONE
BEGIN:VEVENT
DTSTART;TZID=UTC:20250608T190000
DTEND;TZID=UTC:20250608T200000
DTSTAMP:20260419T132217
CREATED:20250206T154029Z
LAST-MODIFIED:20250512T083424Z
UID:585-1749409200-1749412800@www.solarbirdband.co.uk
SUMMARY:The George & Dragon Acoustic Set
DESCRIPTION:
URL:https://www.solarbirdband.co.uk/event/george-and-dragon-salisbury-acoustic/
LOCATION:The George & Dragon\,\, 85 Castle Street\, Salisbury\, SP1 3SP\, United Kingdom
END:VEVENT
END:VCALENDAR