BEGIN:VCALENDAR
VERSION:2.0
PRODID:-//Solarbird - ECPv6.15.18//NONSGML v1.0//EN
CALSCALE:GREGORIAN
METHOD:PUBLISH
X-WR-CALNAME:Solarbird
X-ORIGINAL-URL:https://www.solarbirdband.co.uk
X-WR-CALDESC:Events for Solarbird
REFRESH-INTERVAL;VALUE=DURATION:PT1H
X-Robots-Tag:noindex
X-PUBLISHED-TTL:PT1H
BEGIN:VTIMEZONE
TZID:UTC
BEGIN:STANDARD
TZOFFSETFROM:+0000
TZOFFSETTO:+0000
TZNAME:UTC
DTSTART:20240101T000000
END:STANDARD
END:VTIMEZONE
BEGIN:VEVENT
DTSTART;TZID=UTC:20250712T210000
DTEND;TZID=UTC:20250712T230000
DTSTAMP:20260419T132219
CREATED:20250206T154456Z
LAST-MODIFIED:20250206T154456Z
UID:593-1752354000-1752361200@www.solarbirdband.co.uk
SUMMARY:Private Event
DESCRIPTION:
URL:https://www.solarbirdband.co.uk/event/private-event-2/
LOCATION:Private Booking\, United Kingdom
END:VEVENT
BEGIN:VEVENT
DTSTART;VALUE=DATE:20250719
DTEND;VALUE=DATE:20250720
DTSTAMP:20260419T132219
CREATED:20250206T154723Z
LAST-MODIFIED:20250206T154723Z
UID:597-1752883200-1752969599@www.solarbirdband.co.uk
SUMMARY:Stofest!!!!
DESCRIPTION:
URL:https://www.solarbirdband.co.uk/event/stofest/
LOCATION:South Newton & Wishford Village Hall\,\, Warminster Rd\, South Newton\, Salisbury\, SP2 0PJ\, United Kingdom
END:VEVENT
END:VCALENDAR