BEGIN:VCALENDAR
VERSION:2.0
PRODID:-//Solarbird - ECPv6.15.18//NONSGML v1.0//EN
CALSCALE:GREGORIAN
METHOD:PUBLISH
X-WR-CALNAME:Solarbird
X-ORIGINAL-URL:https://www.solarbirdband.co.uk
X-WR-CALDESC:Events for Solarbird
REFRESH-INTERVAL;VALUE=DURATION:PT1H
X-Robots-Tag:noindex
X-PUBLISHED-TTL:PT1H
BEGIN:VTIMEZONE
TZID:UTC
BEGIN:STANDARD
TZOFFSETFROM:+0000
TZOFFSETTO:+0000
TZNAME:UTC
DTSTART:20240101T000000
END:STANDARD
END:VTIMEZONE
BEGIN:VEVENT
DTSTART;TZID=UTC:20250802T203000
DTEND;TZID=UTC:20250802T223000
DTSTAMP:20260419T145012
CREATED:20250317T095334Z
LAST-MODIFIED:20250317T095334Z
UID:633-1754166600-1754173800@www.solarbirdband.co.uk
SUMMARY:Private Event
DESCRIPTION:
URL:https://www.solarbirdband.co.uk/event/private-event-5/
LOCATION:Private Booking\, United Kingdom
END:VEVENT
BEGIN:VEVENT
DTSTART;TZID=UTC:20250816T190000
DTEND;TZID=UTC:20250816T201500
DTSTAMP:20260419T145012
CREATED:20250504T093913Z
LAST-MODIFIED:20250716T154311Z
UID:646-1755370800-1755375300@www.solarbirdband.co.uk
SUMMARY:Farley Live 2025
DESCRIPTION:
URL:https://www.solarbirdband.co.uk/event/farley-live-2025/
LOCATION:Farley Hospital\,\, The Wardenry\, Farley \, Church Road\, Salisbury\, SP5 1AH\, United Kingdom
END:VEVENT
BEGIN:VEVENT
DTSTART;TZID=UTC:20250823T210000
DTEND;TZID=UTC:20250823T230000
DTSTAMP:20260419T145012
CREATED:20250206T155034Z
LAST-MODIFIED:20250206T155034Z
UID:605-1755982800-1755990000@www.solarbirdband.co.uk
SUMMARY:Private Event
DESCRIPTION:
URL:https://www.solarbirdband.co.uk/event/private-event-3/
LOCATION:Private Booking\, United Kingdom
END:VEVENT
END:VCALENDAR